BEGIN:VCALENDAR
VERSION:2.0
PRODID:-//Smartcherry - ECPv6.15.17.1//NONSGML v1.0//EN
CALSCALE:GREGORIAN
METHOD:PUBLISH
X-ORIGINAL-URL:https://smartcherry.world
X-WR-CALDESC:Events for Smartcherry
REFRESH-INTERVAL;VALUE=DURATION:PT1H
X-Robots-Tag:noindex
X-PUBLISHED-TTL:PT1H
BEGIN:VTIMEZONE
TZID:Asia/Dubai
BEGIN:STANDARD
TZOFFSETFROM:+0400
TZOFFSETTO:+0400
TZNAME:+04
DTSTART:20220101T000000
END:STANDARD
END:VTIMEZONE
BEGIN:VEVENT
DTSTART;VALUE=DATE:20231128
DTEND;VALUE=DATE:20231202
DTSTAMP:20260423T210200
CREATED:20231031T195956Z
LAST-MODIFIED:20231031T195956Z
UID:26158-1701129600-1701475199@smartcherry.world
SUMMARY:World Congress of Biostimulants 2023
DESCRIPTION:Only 28 days left until the world's largest meeting of plant biostimulant experts at the World Biostimulant Congress 2023! Event organized by New AG International with more than 1\,600 attendees from more than 70 countries and more than 300 companies\, this event unites the entire biostimulant community. 🌱\n\nDon't miss out on the latest scientific discoveries and industry insights!\n\n\nIn-person and online modes\nRegister and reserve your spot here\n\n 
URL:https://smartcherry.world/event/world-congress-of-biostimulants-2023/
LOCATION:Allianz Mico\, Milan\, Italy\, Piazzale Carlo Magno\, 1/Gate 16\, 20149\, Milan\, Italy
CATEGORIES:Comercio Internacional,Congreso
ATTACH;FMTTYPE=image/jpeg:https://smartcherry.world/wp-content/uploads/2023/10/1697701237210.jpg
END:VEVENT
END:VCALENDAR